BEGIN:VCALENDAR
VERSION:2.0
PRODID:www.sabrespro.co.il
METHOD:REQUEST
BEGIN:VEVENT
UID:20210809T132617-1751153736-example.com
DTSTAMP:20210809T132617
DTSTART:20181216T210000
SUMMARY:הופעה של POSTMODERN JUKEBOX
LOCATION:האנגר 11 - ת"א
DESCRIPTION:POSTMODERN JUKEBOX
END:VEVENT
END:VCALENDAR
