BEGIN:VCALENDAR
VERSION:2.0
PRODID:www.sabrespro.co.il
METHOD:REQUEST
BEGIN:VEVENT
UID:20210809T132706-1029459348-example.com
DTSTAMP:20210809T132706
DTSTART:20181217T220000
SUMMARY:הופעה של גורי אלפי
LOCATION:זאפה הרצליה
DESCRIPTION:גורי אלפי
END:VEVENT
END:VCALENDAR
