BEGIN:VCALENDAR
VERSION:2.0
PRODID:www.sabrespro.co.il
METHOD:REQUEST
BEGIN:VEVENT
UID:20210809T132724-819601378-example.com
DTSTAMP:20210809T132724
DTSTART:20181226T220000
SUMMARY:הופעה של גורי אלפי
LOCATION:זאפה ת"א 
DESCRIPTION:גורי אלפי
END:VEVENT
END:VCALENDAR
