BEGIN:VCALENDAR
VERSION:2.0
PRODID:www.sabrespro.co.il
METHOD:REQUEST
BEGIN:VEVENT
UID:20210809T132534-855312122-example.com
DTSTAMP:20210809T132534
DTSTART:20181210T210000
SUMMARY:הופעה של תמי מונטג
LOCATION:קפה קאמרי
DESCRIPTION:תמי מונטג- הרצאה: "מנקודת מבטי"
END:VEVENT
END:VCALENDAR
